BEGIN:VCALENDAR
VERSION:2.0
PRODID:-//C2SMART Home - ECPv6.15.20//NONSGML v1.0//EN
CALSCALE:GREGORIAN
METHOD:PUBLISH
X-ORIGINAL-URL:https://c2smart.engineering.nyu.edu
X-WR-CALDESC:Events for C2SMART Home
REFRESH-INTERVAL;VALUE=DURATION:PT1H
X-Robots-Tag:noindex
X-PUBLISHED-TTL:PT1H
BEGIN:VTIMEZONE
TZID:America/New_York
BEGIN:DAYLIGHT
TZOFFSETFROM:-0500
TZOFFSETTO:-0400
TZNAME:EDT
DTSTART:20200308T070000
END:DAYLIGHT
BEGIN:STANDARD
TZOFFSETFROM:-0400
TZOFFSETTO:-0500
TZNAME:EST
DTSTART:20201101T060000
END:STANDARD
BEGIN:DAYLIGHT
TZOFFSETFROM:-0500
TZOFFSETTO:-0400
TZNAME:EDT
DTSTART:20210314T070000
END:DAYLIGHT
BEGIN:STANDARD
TZOFFSETFROM:-0400
TZOFFSETTO:-0500
TZNAME:EST
DTSTART:20211107T060000
END:STANDARD
BEGIN:DAYLIGHT
TZOFFSETFROM:-0500
TZOFFSETTO:-0400
TZNAME:EDT
DTSTART:20220313T070000
END:DAYLIGHT
BEGIN:STANDARD
TZOFFSETFROM:-0400
TZOFFSETTO:-0500
TZNAME:EST
DTSTART:20221106T060000
END:STANDARD
END:VTIMEZONE
BEGIN:VEVENT
DTSTART;TZID=America/New_York:20211020T090000
DTEND;TZID=America/New_York:20211020T223000
DTSTAMP:20260422T175300
CREATED:20211015T152838Z
LAST-MODIFIED:20211015T153235Z
UID:69117-1634720400-1634769000@c2smart.engineering.nyu.edu
SUMMARY:Flooding and Public Transportation
DESCRIPTION:Hurricane Ida presented the latest example of climate change impacts to the subway system\, with extensive damage and a systemwide shutdown. As storms intensify and sea levels rise\, New York City’s public transportation systems will endure repetitive flooding and destructive events. \nThe NYU Rudin Center for Transportation presents a virtual panel discussion about mitigating climate change impacts\, keeping transit riders safe and reassured\, and activating alternative modes. \nPanelists: \n\nChante Harris\, Director\, Climate Investment & Partnerships\, SecondMuse\nGreg Lindsay\, Director of Applied Research\, NewCities\nJose Martinez\, Transportation Reporter\, THE CITY\nJamie Torres-Springer\, Commissioner\, NYC Department of Design and Construction \nModerated by Sarah M. Kaufman\, NYU Rudin Center for Transportation
URL:https://c2smart.engineering.nyu.edu/event/flooding-and-public-transportation/
CATEGORIES:Infrastructure Resiliency,Virtual Events
ORGANIZER;CN="Rudin Center for Transportation Policy and Management":MAILTO:rudin.center@nyu.edu
END:VEVENT
BEGIN:VEVENT
DTSTART;TZID=America/New_York:20211026T120000
DTEND;TZID=America/New_York:20211026T130000
DTSTAMP:20260422T175300
CREATED:20211015T153100Z
LAST-MODIFIED:20211018T190550Z
UID:69120-1635249600-1635253200@c2smart.engineering.nyu.edu
SUMMARY:State of the Field: Structural Health Monitoring (SHM) towards Infrastructure Resiliency
DESCRIPTION:In this event series\, C2SMART leverages its consortium of researchers and experts to share a vision of the future of mobility and transportation systems. They’ll share advances\, opportunities\, predictions\, research bottlenecks\, and what perspectives and skills are needed from researchers and the workforce of tomorrow towards tackling one area of today’s most pressing problems. \nState of the Field: Structural Health Monitoring (SHM) towards Infrastructure Resiliency \nWhat does the best of transportation engineering research have to say about maintenance\, rehabilitation\, and replacement of critical infrastructure? How are the latest advances in technology being applied to extend lifespans of structures\, and how can this technology be scaled to infrastructure projects around the United States? Structural Health Monitoring provides critical insight into answering these questions using new technologies that are changing the ways we tackle maintenance and rehabilitation of structures. \nThe first event in this series will be a webinar delivered by Erik Zuker\, PE\, of HNTB\, on the state of SHM applications and case studies from the Mario M. Cuomo Bridge\, Verrazzano Narrows Bridge\, and the Marine Parkway Bridge\, in the New York City area.
URL:https://c2smart.engineering.nyu.edu/event/state-of-the-field-structural-health-monitoring-shm-towards-infrastructure-resiliency/
LOCATION:Virtual\, 6 MetroTech Center\, Brooklyn\, NY\, 11201\, United States
CATEGORIES:Infrastructure Resiliency,Webinars
ORGANIZER;CN="C2SMART":MAILTO:c2smart@nyu.edu
END:VEVENT
END:VCALENDAR