BEGIN:VCALENDAR
VERSION:2.0
PRODID:-//C2SMART Home - ECPv6.15.20//NONSGML v1.0//EN
CALSCALE:GREGORIAN
METHOD:PUBLISH
X-ORIGINAL-URL:https://c2smart.engineering.nyu.edu
X-WR-CALDESC:Events for C2SMART Home
REFRESH-INTERVAL;VALUE=DURATION:PT1H
X-Robots-Tag:noindex
X-PUBLISHED-TTL:PT1H
BEGIN:VTIMEZONE
TZID:America/New_York
BEGIN:DAYLIGHT
TZOFFSETFROM:-0500
TZOFFSETTO:-0400
TZNAME:EDT
DTSTART:20210314T070000
END:DAYLIGHT
BEGIN:STANDARD
TZOFFSETFROM:-0400
TZOFFSETTO:-0500
TZNAME:EST
DTSTART:20211107T060000
END:STANDARD
BEGIN:DAYLIGHT
TZOFFSETFROM:-0500
TZOFFSETTO:-0400
TZNAME:EDT
DTSTART:20220313T070000
END:DAYLIGHT
BEGIN:STANDARD
TZOFFSETFROM:-0400
TZOFFSETTO:-0500
TZNAME:EST
DTSTART:20221106T060000
END:STANDARD
BEGIN:DAYLIGHT
TZOFFSETFROM:-0500
TZOFFSETTO:-0400
TZNAME:EDT
DTSTART:20230312T070000
END:DAYLIGHT
BEGIN:STANDARD
TZOFFSETFROM:-0400
TZOFFSETTO:-0500
TZNAME:EST
DTSTART:20231105T060000
END:STANDARD
END:VTIMEZONE
BEGIN:VEVENT
DTSTART;TZID=America/New_York:20220224T120000
DTEND;TZID=America/New_York:20220224T130000
DTSTAMP:20260422T082003
CREATED:20220217T175204Z
LAST-MODIFIED:20220217T175204Z
UID:73325-1645704000-1645707600@c2smart.engineering.nyu.edu
SUMMARY:State-of-the-Field: New Fiber Optic Structural Health Monitoring (SHM) Technologies and Recent Case Studies
DESCRIPTION:SMS provides specialized\, fiber-optic structural health monitoring (SHM) systems for bridges and tunnels and world-wide has worked with many agencies and engineering firms. Terry Tamutus\, Founder and CEO of SMS\, will discuss solutions to new construction problems and deteriorating bridges. He’ll share successful case studies\, lessons-learned\, critical safety issues\, O&M improvement\, deterioration models\, and asset management. This webinar will provide engineers with a high-level SHM overview\, types of RFPs used by different agencies\, and a check-list for SHM project oversight. \nIn the State-of-the-Field event series\, C2SMART leverages its consortium of researchers and experts to share a vision of the future of mobility and transportation systems. They’ll share advances\, opportunities\, predictions\, research bottlenecks\, and what perspectives and skills are needed from researchers and the workforce of tomorrow towards tackling one area of today’s most pressing problems. \n Terry Tamutus of SMS\, is a Mechanical Engineer and has over 30 years of SHM expertise. Terry has published over 20 peer-reviewed papers on Acoustic SHM. He provides SHM design\, application support\, installation\, training\, and product development. Worldwide\, he has provided hundreds of papers and presentations to universities\, engineering societies (NACE\, PTI\, ASNT\, TRB)\, government agencies (DoD\, DOTs\, NIST\, FAA\, NASA\, FHWA)\, and companies including Boeing\, Lockheed\, PowerGen\, and refineries.\n 
URL:https://c2smart.engineering.nyu.edu/event/state-of-the-field-new-fiber-optic-structural-health-monitoring-shm-technologies-and-recent-case-studies/
CATEGORIES:Infrastructure Resiliency,Virtual Events,Webinars
ORGANIZER;CN="C2SMART":MAILTO:c2smart@nyu.edu
LOCATION:https://c2smart.engineering.nyu.edu/event/state-of-the-field-new-fiber-optic-structural-health-monitoring-shm-technologies-and-recent-case-studies/
END:VEVENT
END:VCALENDAR