BEGIN:VCALENDAR
VERSION:2.0
PRODID:-//C2SMART Home - ECPv6.15.20//NONSGML v1.0//EN
CALSCALE:GREGORIAN
METHOD:PUBLISH
X-ORIGINAL-URL:https://c2smart.engineering.nyu.edu
X-WR-CALDESC:Events for C2SMART Home
REFRESH-INTERVAL;VALUE=DURATION:PT1H
X-Robots-Tag:noindex
X-PUBLISHED-TTL:PT1H
BEGIN:VTIMEZONE
TZID:America/New_York
BEGIN:DAYLIGHT
TZOFFSETFROM:-0500
TZOFFSETTO:-0400
TZNAME:EDT
DTSTART:20220313T070000
END:DAYLIGHT
BEGIN:STANDARD
TZOFFSETFROM:-0400
TZOFFSETTO:-0500
TZNAME:EST
DTSTART:20221106T060000
END:STANDARD
BEGIN:DAYLIGHT
TZOFFSETFROM:-0500
TZOFFSETTO:-0400
TZNAME:EDT
DTSTART:20230312T070000
END:DAYLIGHT
BEGIN:STANDARD
TZOFFSETFROM:-0400
TZOFFSETTO:-0500
TZNAME:EST
DTSTART:20231105T060000
END:STANDARD
BEGIN:DAYLIGHT
TZOFFSETFROM:-0500
TZOFFSETTO:-0400
TZNAME:EDT
DTSTART:20240310T070000
END:DAYLIGHT
BEGIN:STANDARD
TZOFFSETFROM:-0400
TZOFFSETTO:-0500
TZNAME:EST
DTSTART:20241103T060000
END:STANDARD
BEGIN:DAYLIGHT
TZOFFSETFROM:-0500
TZOFFSETTO:-0400
TZNAME:EDT
DTSTART:20250309T070000
END:DAYLIGHT
BEGIN:STANDARD
TZOFFSETFROM:-0400
TZOFFSETTO:-0500
TZNAME:EST
DTSTART:20251102T060000
END:STANDARD
END:VTIMEZONE
BEGIN:VEVENT
DTSTART;TZID=America/New_York:20230222T083000
DTEND;TZID=America/New_York:20230222T120000
DTSTAMP:20260421T184618
CREATED:20230213T225934Z
LAST-MODIFIED:20230214T171906Z
UID:78673-1677054600-1677067200@c2smart.engineering.nyu.edu
SUMMARY:2nd NYU-TJU Urban Transportation Forum
DESCRIPTION:3On February 22\, 2023\, New York University and Tongji University are joining forces to host an online urban transportation forum. The topics to be covered in this virtual event include the future of transportation\, sustainability and equity in transportation systems\, travel behavior\, and safety in urban transportation. This forum will provide a platform for experts and students to come together and discuss the pressing issues in the field\, and offer new perspectives on shaping the future of urban transportation. \nAgenda (click to expand)\n20230222 NYU-TJU 2nd Urban Transportation Forum Agenda \nPre-registration via Zoom is required. Please click the Register button below.
URL:https://c2smart.engineering.nyu.edu/event/2nd-nyu-tju-urban-transportation-forum/
LOCATION:Virtual\, 6 MetroTech Center\, Brooklyn\, NY\, 11201\, United States
CATEGORIES:Safety in Transportation Systems
ORGANIZER;CN="C2SMART":MAILTO:c2smart@nyu.edu
END:VEVENT
BEGIN:VEVENT
DTSTART;TZID=America/New_York:20230406T120000
DTEND;TZID=America/New_York:20230406T130000
DTSTAMP:20260421T184618
CREATED:20230321T133103Z
LAST-MODIFIED:20230321T133103Z
UID:78946-1680782400-1680786000@c2smart.engineering.nyu.edu
SUMMARY:Optimal dispatching of electric vehicles for providing charging on- demand service leveraging charging-on-the-move technology
DESCRIPTION:  \n  \nRange anxiety and charging infrastructure scarcity have been the main challenges for the mass adoption of electric vehicles (EVs). The emerging mobile electric-vehicle-to-electric-vehicle (mE2) charging technology offers a promising solution\, which combines battery-to-battery and connected and autonomous vehicle technologies to enable an EV with an extra battery to charge another EV on the move. This webinar focuses on the efficient pairing and routing of electricity providers (EPs) to demand (EDs) by extending the existing Charging-as-a-Service (CaaS) strategy to the mE2 charging service (referred to as CaaS + ). Dr. Lili Du will discuss the EP fleet management problem\, which is mathematically modeled as a vehicle routing problem (i.e.\, mE2-VRP)\, aiming to optimally dispatch the minimum number of EPs to approach and serve the EDs using different proportions of EV flows to save EDs’ travel time and mitigate traffic congestion to different extents in different network congestion and charging station coverage scenarios. She will also discuss suggestions for improving the service efficiency of CaaS + . \nPRESENTER  \nDr. Lili Du is an associate professor in the Civil and Coastal Engineering Department\, University of Florida. Before that\, she worked as an assistant and then an associate professor at the Illinois Institute of Technology (IIT) from 2012 to 2017\, and as a Post-doctoral Research Associate for NEXTRANS at Purdue University from 2008 to 2012. Dr. Du received her Ph.D. degree in Decision Sciences and Engineering Systems with a minor in Operations Research and Statistics from Rensselaer Polytechnic Institute in 2008. Dr. Du’s research is characterized by integrating operations research\, network modeling\, game theory\, control theory\, machine learning\, and statistical methods into traffic flow analysis\, transportation system analysis\, and network modeling. Her current research mainly focuses on the impacts of connected and/or autonomous vehicles and electric vehicles\, mobility on demand\, smart curb\, network resilience\, and traffic flow analysis. Dr. Du’s research has been published in Transportation Research Part B\, Part C\, and Part D\, IEEE Transactions on ITS\, Networks and Spatial Economics. Her research has been funded by National Science Foundation (NSF)\, State DOT\, STRIDE UTC\, and Toyota InfoTechnology Center. Dr. Du is a recipient of the NSF CAREER award in 2016. Her recent project\, “Driverless City” won the First Nayar Prize at IIT. She is the founding chair of both TRB AEP40-4 subcommittee on Emerging Technologies in Network Modeling and ASCE-T&amp;DI Artificial Intelligence in Transportation Committee. She serves as an editor for Transportation Research Part B: Methodological\, an associate editor for IEEE Transactions on Intelligent Transportation Systems\, and a member of the editorial advisory board for Transportation Research Part C: Emerging Technologies.
URL:https://c2smart.engineering.nyu.edu/event/optimal-dispatching-of-electric-vehicles-for-providing-charging-on-demand-service-leveraging-charging-on-the-move-technology/
CATEGORIES:Big Data & Planning for Smart Cities
LOCATION:
END:VEVENT
BEGIN:VEVENT
DTSTART;TZID=America/New_York:20230516T120000
DTEND;TZID=America/New_York:20230516T130000
DTSTAMP:20260421T184618
CREATED:20230405T182650Z
LAST-MODIFIED:20230515T215414Z
UID:78984-1684238400-1684242000@c2smart.engineering.nyu.edu
SUMMARY:Learning from big and small data for transportation planning and resilience analysis
DESCRIPTION:POSTPONED – TO BE RESCHEDULED \nCOVID has exacerbated two emerging trends in transportation analysis: (1) the rise of passively-generated big data; and (2) the increasing need to deal with the “unexpected” disruptions. This talk emphasizes the need for learning big and small data for transportation planning and resilience analysis. Different ways of learning are described\, with applications ranging from long-term planning analysis to rapid responses under disruptions. \nPRESENTER  \nCynthia Chen is a professor in the Department of Civil & Environmental Engineering at the University of Washington (Seattle). She is also a professor and the interim chair of the Department of Industrial & Systems Engineering at UW. She is an internationally renowned scholar in transportation science and directs the THINK (Transportation-Human Interaction and Network Knowledge) lab at the UW. Cynthia has published over 60 peer-reviewed publications in leading journals in transportation and systems engineering including Transportation Research Part A-F and Omega\, as well as interdisciplinary journals such as PNAS. Her research has been supported by federal agencies such as NSF\, NIH\, APAR-E\, NIST\, USDOT\, and FHWA as well as state and regional agencies. Cynthia served a two-year assignment (2017-19) as the Program Director of Civil Infrastructure Systems\, CMMI (Civil\, Mechanical\, and Manufacturing Innovation) division with the National Science Foundation. She is an associate director of TOMNET (Center for Teaching Old Models New Tricks)\, a USDOT-funded Tier 1 University Transportation Center led by ASU\, as well as a key member of the new Center of Understanding Future Travel Behavior and Demand\, a USDOT-funded national center led by UT Austin. Currently\, Cynthia serves as an associate editor for Transportation Science\, and is on the editorial board of Sustainability Analytics and Modeling.
URL:https://c2smart.engineering.nyu.edu/event/learning-from-big-and-small-data-for-transportation-planning-and-resilience-analysis/
LOCATION:C2SMART Center Viz Lab\, 6 Metrotech Center\, Room 460\, Brooklyn\, 11201
CATEGORIES:Big Data & Planning for Smart Cities
END:VEVENT
BEGIN:VEVENT
DTSTART;TZID=America/New_York:20230519T140000
DTEND;TZID=America/New_York:20230519T150000
DTSTAMP:20260421T184618
CREATED:20230503T170846Z
LAST-MODIFIED:20230504T194131Z
UID:79072-1684504800-1684508400@c2smart.engineering.nyu.edu
SUMMARY:Deep Neural Networks for Choice Analysis
DESCRIPTION:Individual choice has been an enduring question across disciplines. Deep neural networks (DNNs) have demonstrated their high predictive power over the classical discrete choice models (DCMs) in many empirical studies. However\, DNNs as a new modeling paradigm still present pressing challenges in interpretation\, generalization\, and robustness. This presentation introduces a deep choice framework that synergizes DNNs and DCMs to model individual travel decision. It demonstrates that the DNNs can provide economic information as complete as classical DCMs\, including choice predictions\, choice probabilities\, market shares\, substitution patterns of alternatives\, social welfare\, heterogeneous values of time\, among many others\, thus partially resolving the interpretation challenge. It introduces how to use the prior behavioral knowledge to design a particular DNN architecture with alternative-specific utility functions\, which improves the generalizability of DNNs with a domain-knowledge-based regularization method. It then extends the framework to deep hybrid models\, which integrates classical numerical data and the unstructured data (i.e.\, imagery and graphs) to analyze travel behavior. Overall\, this presentation lays out a new foundation of using DNNs to analyze travel demand\, enhancing economic interpretation\, architectural design\, and robustness of deep learning through classical utility theory. \n\n\nSPEAKER \nShenhao Wang is an assistant professor and the director of the Urban Artificial Intelligence Laboratory at the University of Florida. He is also a research affiliate to Urban Mobility Lab and Media Lab at the Massachusetts Institute of Technology. He seeks to develop fundamental theory for urban science using artificial intelligence. He develops deep choice models\, which analyze individual decision-making by integrating discrete choice models and deep learning with applications to urban travel behavioral analysis. He also analyzes collective mobility networks by integrating classical network theory and graph neural networks to quantify risk and uncertainty\, thus promoting resilient economic growth. Dr. Wang completed his interdisciplinary Ph.D. in Computer and Urban Science at Massachusetts Institute of Technology in 2020. He received B.A. in Economics from Peking University (2014) and B.A. in architecture and law from Tsinghua University (2011)\, Master of Science in Transportation\, and Master of City Planning from MIT (2017).
URL:https://c2smart.engineering.nyu.edu/event/deep-neural-networks-for-choice-analysis/
LOCATION:C2SMART Center Viz Lab\, 6 Metrotech Center\, Room 460\, Brooklyn\, 11201
CATEGORIES:Big Data & Planning for Smart Cities,Student Events
END:VEVENT
BEGIN:VEVENT
DTSTART;TZID=America/New_York:20230522T153000
DTEND;TZID=America/New_York:20230522T164500
DTSTAMP:20260421T184618
CREATED:20230503T171010Z
LAST-MODIFIED:20230504T154007Z
UID:79082-1684769400-1684773900@c2smart.engineering.nyu.edu
SUMMARY:USDOT Free Public Webinar:  Intersection Safety Challenge Prize Competition
DESCRIPTION:The U.S. Department of Transportation (DOT) will host a webinar on May 22 to discuss the Intersection Safety Challenge Prize Competition\, which launched on April 25\, 2023. \nEach year\, roughly one-quarter of traffic fatalities and about one-half of all traffic injuries in the United States are attributed to intersections. According to the latest data from the National Highway Traffic Safety Administration (NHTSA)\, an estimated 42\,939 people died in motor vehicle traffic crashes in 2021\, a 10.1% increase compared to 39\,007 fatalities reported in 2020. From 2020 to 2021\, pedestrian and pedalcyclist fatalities and injuries increased at an alarming rate. For example\, pedestrian fatalities increased 13% and pedestrian injuries increased 11% from 2020 to 2021. In response to growing concerns regarding the safety of vulnerable road users at intersections and as part of the recent National Roadway Safety Strategy (NRSS) Call to Action\, the DOT aims to transform intersection safety through the innovative application of emerging technologies to identify and mitigate unsafe conditions involving vehicles and vulnerable road users. \nTo help address this growing problem and support U.S. DOT’s vision\, U.S. DOT is launching the Intersection Safety Challenge. This Challenge includes a multi-stage Prize Competition to encourage teams of innovators and end-users to develop and test their intersection safety systems (ISS) to compete for up to $6 million total in prizes. \nThe Challenge is considering the potential of emerging technologies to transform intersection safety and ensure equity among all road users (including vehicles and vulnerable road users). Leveraging emerging technologies to anticipate\, prevent\, and mitigate unsafe roadway conditions could augment traditional safety engineering in roadway design and intersection control. These emerging technologies could include machine vision\, machine perception\, sensor fusion\, real-time decision-making\, artificial intelligence\, and vehicle-to-everything (V2X) communications (among other approaches). These technologies in most cases rely on real-time decision-making informed by data ingested and analyzed from multiple sensor systems. \nThe webinar will discuss the U.S. DOT Intersection Safety Challenge Prize Competition\, including a program overview\, the Prize Competition structure\, and Stage 1A expectations. Please register for this webinar by visiting the following registration link: https://iscwebinar.eventbrite.com. \nFor more information about the program\, please visit the program website: https://its.dot.gov/isc. For more information about the ITS JPO\, please visit: https://www.its.dot.gov/.
URL:https://c2smart.engineering.nyu.edu/event/usdot-free-public-webinar-intersection-safety-challenge-prize-competition/
LOCATION:Virtual\, 6 MetroTech Center\, Brooklyn\, NY\, 11201\, United States
CATEGORIES:Safety in Transportation Systems,Virtual Events
END:VEVENT
BEGIN:VEVENT
DTSTART;TZID=America/New_York:20230524T120000
DTEND;TZID=America/New_York:20230524T130000
DTSTAMP:20260421T184618
CREATED:20230425T133642Z
LAST-MODIFIED:20230504T153822Z
UID:79046-1684929600-1684933200@c2smart.engineering.nyu.edu
SUMMARY:Summer Webinar Series- Route Choice and Spatio-Temporal Behavior: The Perturbed Utility Route Choice Model
DESCRIPTION:  \nThe perturbed utility route choice model represents traveler behavior as a utility maximizing assignment of flow across an entire network under a flow conservation constraint. Substitution between routes depends on how much they overlap. The model is estimated considering the full set of route alternatives\, and no choice set generation is required. Nevertheless\, estimation requires only linear regression and is very fast. Predictions from the model can be computed using convex optimization\, and computation is straightforward even for large networks. In this talk\, Professor Fosgerau presents results from application to large datasets (1\,337\,096 GPS traces of car trips\, 280\,000 GPS traces of bicycle trips) in Copenhagen. \nSPEAKER \nMogens Fosgerau is a professor in the Economics Department\, University of Copenhagen. His areas of research include micro-economics and micro-econometrics applied to problems in transportation\, in particular to issues concerning time\, reliability and congestion. \nPresented by the Transportation Research Board Subcommittee on Route Choice and Spatio-Temporal Behavior (AEP30/AEP40)
URL:https://c2smart.engineering.nyu.edu/event/route-choice-and-spatio-temporal-behavior-the-perturbed-utility-route-choice-model/
CATEGORIES:Big Data & Planning for Smart Cities
ORGANIZER;CN="C2SMART":MAILTO:c2smart@nyu.edu
LOCATION:
END:VEVENT
BEGIN:VEVENT
DTSTART;TZID=America/New_York:20230613T120000
DTEND;TZID=America/New_York:20230613T130000
DTSTAMP:20260421T184619
CREATED:20230602T162031Z
LAST-MODIFIED:20230602T162031Z
UID:79286-1686657600-1686661200@c2smart.engineering.nyu.edu
SUMMARY:Webinar: Quantifying and Visualizing City Truck Route Network Efficiency Using a Virtual Testbed
DESCRIPTION:Presented by: Joseph Chow\, Associate Professor\, NYU\nHaggai Davis\, PHD Candidate\, NYU\nTuesday\, June 13\, 2023: 12:00pm – 1:00pm ET | Virtual
URL:https://c2smart.engineering.nyu.edu/event/webinar-quantifying-and-visualizing-city-truck-route-network-efficiency-using-a-virtual-testbed/
CATEGORIES:Big Data & Planning for Smart Cities
ORGANIZER;CN="C2SMART":MAILTO:c2smart@nyu.edu
LOCATION:
END:VEVENT
BEGIN:VEVENT
DTSTART;TZID=America/New_York:20230615T150000
DTEND;TZID=America/New_York:20230615T160000
DTSTAMP:20260421T184619
CREATED:20230531T163314Z
LAST-MODIFIED:20230531T163536Z
UID:79276-1686841200-1686844800@c2smart.engineering.nyu.edu
SUMMARY:Summer Webinar Series
DESCRIPTION:Presented by the Transportation Research Board (TRB) subcommittee AEP30(2) Route Choice and Spatio-Temporal Behavior \nSpeaker: Professor Marcela A. Munizaga\, Universidad de Chile.
URL:https://c2smart.engineering.nyu.edu/event/summer-webinar-series/
CATEGORIES:Big Data & Planning for Smart Cities
LOCATION:
END:VEVENT
BEGIN:VEVENT
DTSTART;TZID=America/New_York:20230629T120000
DTEND;TZID=America/New_York:20230629T130000
DTSTAMP:20260421T184619
CREATED:20230620T165219Z
LAST-MODIFIED:20230622T153755Z
UID:79431-1688040000-1688043600@c2smart.engineering.nyu.edu
SUMMARY:Webinar: Autonomous Vehicle Good Citizenry Standard
DESCRIPTION:Presented by:\nSarah Kaufman\, Interim Director\, NYU Rudin Center for Transportation\nJoseph Chow\, Associate Professor\, NYU\nThursday\, June 29\, 2023: 12:00pm – 1:00pm ET | Virtual \nNew York City is moving toward a more efficient\, safer\, and sustainable future that includes autonomous vehicles for transit\, e-commerce\, and medical transport. However\, autonomy often runs on incomplete or flawed foundations: training data sets might not prepare vehicles to “see” people of color; transit shuttles may operate without safety considerations for women\, frequent targets of sexual harassment on transit; delivery pods might be sharing personal data with several third parties. Although the City will regulate vehicle safety and efficacy on the street\, autonomous mobility must be evaluated under more ambitious and holistic standards. The Responsible Autonomous Mobility (RAM) Framework aims to identify partnership in several areas.
URL:https://c2smart.engineering.nyu.edu/event/webinar-autonomous-vehicle-good-citizenry-standard/
CATEGORIES:Connected & Autonomous Mobility
ORGANIZER;CN="C2SMART":MAILTO:c2smart@nyu.edu
LOCATION:
END:VEVENT
BEGIN:VEVENT
DTSTART;TZID=America/New_York:20230717T180000
DTEND;TZID=America/New_York:20230717T193000
DTSTAMP:20260421T184619
CREATED:20230620T170709Z
LAST-MODIFIED:20230620T170709Z
UID:79435-1689616800-1689622200@c2smart.engineering.nyu.edu
SUMMARY:Transit Techies July Meetup
DESCRIPTION:Technologists who love transit.\nTransit enthusiasts who hack!\nAt Transit Techies NYC\, speakers present transit-related projects. Presenters may be household hackers\, data scientists\, researchers\, product developers\, or you! All presentations will be technical and awesome.
URL:https://c2smart.engineering.nyu.edu/event/transit-techies-july-meetup/
CATEGORIES:Connected & Autonomous Mobility
ORGANIZER;CN="C2SMART":MAILTO:c2smart@nyu.edu
LOCATION:
END:VEVENT
BEGIN:VEVENT
DTSTART;TZID=America/New_York:20230814T120000
DTEND;TZID=America/New_York:20230814T130000
DTSTAMP:20260421T184619
CREATED:20230810T200203Z
LAST-MODIFIED:20230810T200252Z
UID:79982-1692014400-1692018000@c2smart.engineering.nyu.edu
SUMMARY:Digital Twin Technologies Towards Understanding the Interactions between Transportation and other Civil Infrastructure Systems: Phase 2
DESCRIPTION:
URL:https://c2smart.engineering.nyu.edu/event/digital-twin-technologies-towards-understanding-the-interactions-between-transportation-and-other-civil-infrastructure-systems-phase-2/
CATEGORIES:Big Data & Planning for Smart Cities,Webinars
LOCATION:https://nyu.zoom.us/webinar/register/WN_jQg9UllxRB26w9QmMn9OqQ
END:VEVENT
BEGIN:VEVENT
DTSTART;TZID=America/New_York:20230922T093000
DTEND;TZID=America/New_York:20230922T110000
DTSTAMP:20260421T184619
CREATED:20230912T190235Z
LAST-MODIFIED:20230912T190235Z
UID:80573-1695375000-1695380400@c2smart.engineering.nyu.edu
SUMMARY:Reconnecting Communities: Creating More Equitable Outcomes in Transportation Projects
DESCRIPTION:Presented by the NYU Rudin Center for Transportation and AECOMThe Infrastructure Investment and Jobs Act (IIJA) represents an unprecedented investment in our country’s transportation system. As part of this investment\, the Biden Administration is seeking not only to build more roads and bridges\, but to address the harmful impacts of past transportation projects\, which have disproportionately fallen on low income communities and communities of color. For neighborhoods around the country that remain divided or isolated by transportation infrastructure\, this investment is a once-in-a-generation opportunity for reconnection. This panel discussion\, co-hosted by AECOM\, will address: How might we best reconnect communities? What does reconnection involve\, and how can we ensure future projects mitigate any further disruption and displacement? Join us for a discussion of ongoing developments and how agencies and stakeholders can best seize this opportunity to create more equitable outcomes. Panelists: Ritchie Torres\, United States Representative (NY-15) Meera Joshi\, New York City Deputy Mayor for Operations Tom Prendergast\, Executive Vice President & New York Metro Chief Executive\, AECOM Moderator: Sarah Kaufman\, Director\, NYU Rudin Center for Transportation.
URL:https://c2smart.engineering.nyu.edu/event/reconnecting-communities-creating-more-equitable-outcomes-in-transportation-projects/
LOCATION:NYU Wagner\, 295 Lafayette Street
CATEGORIES:Equity & Accessibility
ORGANIZER;CN="Rudin Center for Transportation Policy and Management":MAILTO:rudin.center@nyu.edu
END:VEVENT
BEGIN:VEVENT
DTSTART;TZID=America/New_York:20240425T140000
DTEND;TZID=America/New_York:20240425T150000
DTSTAMP:20260421T184619
CREATED:20240326T171207Z
LAST-MODIFIED:20240417T195043Z
UID:84503-1714053600-1714057200@c2smart.engineering.nyu.edu
SUMMARY:Seminar: The Intersection of Cloud Computing and Civil Infrastructure
DESCRIPTION:Over the coming years\, bridges and other physical infrastructure will experience unprecedented demands due to climate driven changes and trends in freight. These increasing demands are set against a backdrop of infrastructure deterioration as many assets reach the end of their intended life. This presentation will examine not only these trends but also technology that can be leveraged by the engineering community to better analyze\, understand\, and overcome these challenges. \nThe objective of this presentation is to familiarize the engineering community with technology tools that have become well established in adjacent industries and are poised to play a large role in the field of civil infrastructure. These include cloud computing\, programming languages\, data visualization and machine learning. These tools are examined in the context of two upcoming challenges for our industry: climate threats and increasingly heavy freight. Ultimately\, the engineers who know these problems inside and out should have the tools and skill sets to know the data inside and out. \nPresented by HNTB’s Erik Zuker\, PE\, and Rob Wildish\, EIT. Co-hosted by Rutgers and the RIME Bridge Resource Program
URL:https://c2smart.engineering.nyu.edu/event/seminar-the-intersection-of-cloud-computing-and-civil-infrastructure/
LOCATION:C2SMART Center Viz Lab\, 6 Metrotech Center\, Room 460\, Brooklyn\, 11201
CATEGORIES:Infrastructure Resiliency
END:VEVENT
BEGIN:VEVENT
DTSTART;TZID=America/New_York:20240917T170000
DTEND;TZID=America/New_York:20240917T180000
DTSTAMP:20260421T184619
CREATED:20240904T162336Z
LAST-MODIFIED:20240911T161335Z
UID:85969-1726592400-1726596000@c2smart.engineering.nyu.edu
SUMMARY:Transportation & Urban Systems Fall Welcome Event
DESCRIPTION:Come meet your fellow students and faculty\, learn about upcoming courses\, programs\, and research opportunities in transportation and urban systems\, and eat snacks!
URL:https://c2smart.engineering.nyu.edu/event/transportation-urban-systems-fall-welcome-event/
LOCATION:C2SMART Center Viz Lab\, 6 Metrotech Center\, Room 460\, Brooklyn\, 11201
CATEGORIES:Research Areas,Shared & Micromobility
END:VEVENT
BEGIN:VEVENT
DTSTART;TZID=America/New_York:20240926T093000
DTEND;TZID=America/New_York:20240926T110000
DTSTAMP:20260421T184619
CREATED:20240910T184102Z
LAST-MODIFIED:20240910T205234Z
UID:85999-1727343000-1727348400@c2smart.engineering.nyu.edu
SUMMARY:Mass Transit & Climate Change
DESCRIPTION:Public transportation plays a critical role in the fight against climate change. Transportation is the single largest source of greenhouse gas (GHG) emissions\, accounting for about 28% of the U.S. total. Of that\, public transportation contributes little\, but it plays a critical role in enabling mode shift. Reducing emissions and improving air quality in all modes\, including transit\, is also important to counter the effects of climate change. With excessive flooding and extreme heat on the rise\, climate change is challenging our transportation networks. In response\, the MTA recently published its Climate Resilience Roadmap\, a comprehensive framework to fortify the transit system against the impacts of climate change. With increased funding\, FTA is expanding public transportation’s role in mitigating climate effects\, making a record investment in low- and no-emission technology\, promoting more equitable transit-oriented development and fostering resiliency through grant programs. The NYU Rudin Center for Transportation presents an expert panel to discuss strategies that will enable our transit system to adapt and expand. \nPanelists\nVeronica Vanterpool\, Acting Administrator\, Federal Transportation Administration\nJamie Torres-Springer\, President\, MTA Construction & Development\nTom Prendergast\, Executive Vice President & New York Metro Chief Executive\, AECOM\nModerator: Sarah M. Kaufman\, Director\, NYU Rudin Center for Transportation\nThis event is sponsored by AECOM\, with additional support from NYU C2SMARTER\, a Tier 1 University Transportation Center\, and the NYU Climate Change Initiative Seed Grant.
URL:https://c2smart.engineering.nyu.edu/event/mass-transit-climate-change/
LOCATION:Kimmel Center\, Room 914\, 60 Washington Square South\, New York\, NY\, 10012\, United States
CATEGORIES:Research Areas
END:VEVENT
END:VCALENDAR