BEGIN:VCALENDAR
VERSION:2.0
PRODID:-//C2SMART Home - ECPv6.15.20//NONSGML v1.0//EN
CALSCALE:GREGORIAN
METHOD:PUBLISH
X-ORIGINAL-URL:https://c2smart.engineering.nyu.edu
X-WR-CALDESC:Events for C2SMART Home
REFRESH-INTERVAL;VALUE=DURATION:PT1H
X-Robots-Tag:noindex
X-PUBLISHED-TTL:PT1H
BEGIN:VTIMEZONE
TZID:America/New_York
BEGIN:DAYLIGHT
TZOFFSETFROM:-0500
TZOFFSETTO:-0400
TZNAME:EDT
DTSTART:20220313T070000
END:DAYLIGHT
BEGIN:STANDARD
TZOFFSETFROM:-0400
TZOFFSETTO:-0500
TZNAME:EST
DTSTART:20221106T060000
END:STANDARD
BEGIN:DAYLIGHT
TZOFFSETFROM:-0500
TZOFFSETTO:-0400
TZNAME:EDT
DTSTART:20230312T070000
END:DAYLIGHT
BEGIN:STANDARD
TZOFFSETFROM:-0400
TZOFFSETTO:-0500
TZNAME:EST
DTSTART:20231105T060000
END:STANDARD
BEGIN:DAYLIGHT
TZOFFSETFROM:-0500
TZOFFSETTO:-0400
TZNAME:EDT
DTSTART:20240310T070000
END:DAYLIGHT
BEGIN:STANDARD
TZOFFSETFROM:-0400
TZOFFSETTO:-0500
TZNAME:EST
DTSTART:20241103T060000
END:STANDARD
END:VTIMEZONE
BEGIN:VEVENT
DTSTART;TZID=America/New_York:20230922T113000
DTEND;TZID=America/New_York:20230922T123000
DTSTAMP:20260422T105733
CREATED:20230912T184858Z
LAST-MODIFIED:20230912T185245Z
UID:80560-1695382200-1695385800@c2smart.engineering.nyu.edu
SUMMARY:Reducing US Transit Costs: An Empirical Review and Comparative Case Study of Portland\, Manchester Rail Systems
DESCRIPTION:Presented by Chetan Sharma and Prof. Joseph Chow
URL:https://c2smart.engineering.nyu.edu/event/reducing-us-transit-costs-an-empirical-review-and-comparative-case-study-of-portland-manchester-rail-systems/
CATEGORIES:Webinars
END:VEVENT
END:VCALENDAR