BEGIN:VCALENDAR
VERSION:2.0
PRODID:-//C2SMART Home - ECPv6.15.20//NONSGML v1.0//EN
CALSCALE:GREGORIAN
METHOD:PUBLISH
X-ORIGINAL-URL:https://c2smart.engineering.nyu.edu
X-WR-CALDESC:Events for C2SMART Home
REFRESH-INTERVAL;VALUE=DURATION:PT1H
X-Robots-Tag:noindex
X-PUBLISHED-TTL:PT1H
BEGIN:VTIMEZONE
TZID:America/New_York
BEGIN:DAYLIGHT
TZOFFSETFROM:-0500
TZOFFSETTO:-0400
TZNAME:EDT
DTSTART:20230312T070000
END:DAYLIGHT
BEGIN:STANDARD
TZOFFSETFROM:-0400
TZOFFSETTO:-0500
TZNAME:EST
DTSTART:20231105T060000
END:STANDARD
BEGIN:DAYLIGHT
TZOFFSETFROM:-0500
TZOFFSETTO:-0400
TZNAME:EDT
DTSTART:20240310T070000
END:DAYLIGHT
BEGIN:STANDARD
TZOFFSETFROM:-0400
TZOFFSETTO:-0500
TZNAME:EST
DTSTART:20241103T060000
END:STANDARD
BEGIN:DAYLIGHT
TZOFFSETFROM:-0500
TZOFFSETTO:-0400
TZNAME:EDT
DTSTART:20250309T070000
END:DAYLIGHT
BEGIN:STANDARD
TZOFFSETFROM:-0400
TZOFFSETTO:-0500
TZNAME:EST
DTSTART:20251102T060000
END:STANDARD
END:VTIMEZONE
BEGIN:VEVENT
DTSTART;TZID=America/New_York:20241011T130000
DTEND;TZID=America/New_York:20241011T140000
DTSTAMP:20260421T121121
CREATED:20240925T141023Z
LAST-MODIFIED:20241007T155409Z
UID:86094-1728651600-1728655200@c2smart.engineering.nyu.edu
SUMMARY:Student Learning Hub: Comprehensive Urban Data Collection Using Drones: From Licensing to Advanced Sensor Applications
DESCRIPTION:Instructor: Tu Lan & Vivaldi Rinaldi\, New York University\nBeginner level: No prior experience required.\nSchedule: Friday\, October 11\, 1:00 pm – 2:00 pm ET\nDescription: Drones are becoming an invaluable tool for urban data collection\, offering a wide range of applications from traffic monitoring to environmental analysis. This course introduces participants to the full scope of using drones for traffic data collection\, starting with the necessary FAA licensing and airspace regulations\, followed by practical guidance on drone operation and control. We’ll explore the different sensors and gimbals that can be equipped on drones\, such as cameras\, thermal imaging\, and LiDAR\, and their respective applications in collecting urban data. This session provides a comprehensive understanding of how drones can be utilized for diverse data-driven urban analyses.
URL:https://c2smart.engineering.nyu.edu/event/student-learning-hub-comprehensive-urban-data-collection-using-drones-from-licensing-to-advanced-sensor-applications/
CATEGORIES:Student Events,Webinars
END:VEVENT
END:VCALENDAR