BEGIN:VCALENDAR
VERSION:2.0
PRODID:-//C2SMART Home - ECPv6.15.20//NONSGML v1.0//EN
CALSCALE:GREGORIAN
METHOD:PUBLISH
X-WR-CALNAME:C2SMART Home
X-ORIGINAL-URL:https://c2smart.engineering.nyu.edu
X-WR-CALDESC:Events for C2SMART Home
REFRESH-INTERVAL;VALUE=DURATION:PT1H
X-Robots-Tag:noindex
X-PUBLISHED-TTL:PT1H
BEGIN:VTIMEZONE
TZID:America/New_York
BEGIN:DAYLIGHT
TZOFFSETFROM:-0500
TZOFFSETTO:-0400
TZNAME:EDT
DTSTART:20200308T070000
END:DAYLIGHT
BEGIN:STANDARD
TZOFFSETFROM:-0400
TZOFFSETTO:-0500
TZNAME:EST
DTSTART:20201101T060000
END:STANDARD
BEGIN:DAYLIGHT
TZOFFSETFROM:-0500
TZOFFSETTO:-0400
TZNAME:EDT
DTSTART:20210314T070000
END:DAYLIGHT
BEGIN:STANDARD
TZOFFSETFROM:-0400
TZOFFSETTO:-0500
TZNAME:EST
DTSTART:20211107T060000
END:STANDARD
BEGIN:DAYLIGHT
TZOFFSETFROM:-0500
TZOFFSETTO:-0400
TZNAME:EDT
DTSTART:20220313T070000
END:DAYLIGHT
BEGIN:STANDARD
TZOFFSETFROM:-0400
TZOFFSETTO:-0500
TZNAME:EST
DTSTART:20221106T060000
END:STANDARD
END:VTIMEZONE
BEGIN:VEVENT
DTSTART;TZID=America/New_York:20211123T120000
DTEND;TZID=America/New_York:20211123T130000
DTSTAMP:20260422T202958
CREATED:20211105T122636Z
LAST-MODIFIED:20211122T163031Z
UID:69661-1637668800-1637672400@c2smart.engineering.nyu.edu
SUMMARY:State-of-the-Field: Application of Structural Health Monitoring (SHM) and Weigh-In-Motion (WIM) Sensors For Infrastructure Assessment and Resiliency
DESCRIPTION:Structural Health Monitoring (SHM) is being applied to many types of infrastructure to determine its durability\, performance and response to various loading conditions. Weigh-In-Motion (WIM) provides an efficient way to estimate the static weight of a vehicle by measuring the dynamic tire force of a moving vehicle. Recently\, emphasis has been placed on coupling these two complementary technologies in infrastructure evaluation and resiliency: SHM provides structural response or resistance while WIM provides actual loading conditions and future load prediction that enables determination of infrastructure capacity\, resulting in the operating service loads needed for developing statistical live load models for use at the strength and service limit states. \nDr. Nassif will provide an overview of how SHM\, WIM\, and related sensor technologies have evolved over the last three decades\, emphasizing the current SHM programs of civil infrastructure in the NY/NJ Metropolitan Area. He’ll discuss various projects highlighting structural modeling and analysis\, sensor networking and instrumentation\, data processing\, model validation\, and probabilistic predictions. Dr. Nassif will also provide an overview of how various sensor data might be processed to assess actual behavior of the structure at various stages\, and how unique solutions adopted in response to various agencies’ design and construction issues have led to major improvements in model predictions\, calibration of reliability-based design codes\, and successful implementation and modifications of technical specifications. \nSPEAKER \nDr. Nassif is a Professor in the Department of Civil and Environmental Engineering and Director of the Rutgers Infrastructure Monitoring and Evaluation (RIME) Group at Rutgers University\, where he has established the Bridge Engineering program. He is also serving the Associate Director for Outreach and Technology Transfer at the federally-supported C2SMART Tier 1 University Transportation Center (UTC) at which Dr. Nassif is leading the significant efforts to conduct the research area of the resilient\, secure\, and smart transportation infrastructure.
URL:https://c2smart.engineering.nyu.edu/event/state-of-the-field-weigh-in-motion-wim-technology/
LOCATION:Virtual\, 6 MetroTech Center\, Brooklyn\, NY\, 11201\, United States
CATEGORIES:Infrastructure Resiliency,Virtual Events
ORGANIZER;CN="C2SMART":MAILTO:c2smart@nyu.edu
END:VEVENT
END:VCALENDAR